BEGIN:VCALENDAR
VERSION:2.0
PRODID:-//Library Market//iCal Export//EN
BEGIN:VEVENT
SUMMARY:Color Magic: The Art of Sirin Thada
UID:111187
DTSTAMP:20260423T155700Z
DTSTART:20260526T200000Z
DTEND:20260526T210000Z
LOCATION:1441 Post Road, Darien, CT 06820, United States
ROOM: Storytime Room
DESCRIPTION:We will learn all about the illustrations and artwork of Thai-
 American artist Sirin Thada. By exploring her picture book illustrations, 
 editorial art, and nature-inspired compositions, we will see how this New 
 York City-based artist blends styles and mediums.At the end of this progra
 m we will be creating a work of art inspired by the artist.Ages 7 to 11.
URL:https://www.darienlibrary.org/event/color-magic-art-sirin-thada-111187
END:VEVENT
END:VCALENDAR
