BEGIN:VCALENDAR
VERSION:2.0
PRODID:-//Library Market//iCal Export//EN
BEGIN:VEVENT
SUMMARY:Reading Rainbow
UID:111188
DTSTAMP:20260423T160500Z
DTSTART:20260528T200000Z
DTEND:20260528T203000Z
LOCATION:1441 Post Road, Darien, CT 06820, United States
ROOM: Storytime Room
DESCRIPTION:Come enjoy a read aloud of Mychal Threets book, I&#039;m So Ha
 ppy You&#039;re Here: A Celebration of Library Joy and a rainbow craft.Age
 s 3 to 6.
URL:https://www.darienlibrary.org/event/reading-rainbow-111188
END:VEVENT
END:VCALENDAR
