BEGIN:VCALENDAR
VERSION:2.0
PRODID:-//Library Market//iCal Export//EN
BEGIN:VEVENT
SUMMARY:Get Golden! Learn the Art of Kintsugi
UID:111190
DTSTAMP:20260423T174400Z
DTSTART:20260519T201500Z
DTEND:20260519T204500Z
LOCATION:1441 Post Road, Darien, CT 06820, United States
ROOM: Storytime Room
DESCRIPTION:Learn about the Japanese art of kintsugi and juci which is the
  Chinese art of ceremac repair. Kids will read X. Fang&#039;s book, Broken
 , and work on a simple paper craft to mimic the art form.Ages 4 to 7. 
URL:https://www.darienlibrary.org/event/get-golden-learn-art-kintsugi-1111
 90
END:VEVENT
END:VCALENDAR
