BEGIN:VCALENDAR
VERSION:2.0
PRODID:-//Library Market//iCal Export//EN
BEGIN:VEVENT
SUMMARY:Becoming Boba
UID:111191
DTSTAMP:20260423T172500Z
DTSTART:20260513T200000Z
DTEND:20260513T204500Z
LOCATION:1441 Post Road, Darien, CT 06820, United States
ROOM: Storytime Room
DESCRIPTION:Learn about the delicious origin of boba in honor of Asian Ame
 rican Pacific Islander Month. We will read the story, Becoming Boba by Joa
 nna Ho before we make our own decorative boba jars for storing your trinke
 ts. Everyone will get a sweet treat to take home with them!Ages 5 to 10.
URL:https://www.darienlibrary.org/event/becoming-boba-111191
END:VEVENT
END:VCALENDAR
