BEGIN:VCALENDAR
VERSION:2.0
PRODID:-//Library Market//iCal Export//EN
BEGIN:VEVENT
SUMMARY:A Butterfly&#039;s Life
UID:111192
DTSTAMP:20260423T155700Z
DTSTART:20260521T173000Z
DTEND:20260521T180000Z
LOCATION:1441 Post Road, Darien, CT 06820, United States
ROOM: Storytime Room
DESCRIPTION:Join us as we read and learn about the life cycle of a butterf
 ly with a story and a craft.Ages 3 to 6. 
URL:https://www.darienlibrary.org/event/butterflys-life-111192
END:VEVENT
END:VCALENDAR
