BEGIN:VCALENDAR
VERSION:2.0
PRODID:-//Library Market//iCal Export//EN
BEGIN:VEVENT
SUMMARY:Tax Prep Assistance
UID:111683
DTSTAMP:20260423T032700Z
DTSTART:20260403T130000Z
DTEND:20260403T200000Z
LOCATION:1441 Post Road, Darien, CT 06820, United States
ROOM: Heron Room
DESCRIPTION:Darien Library has teamed up with SimplifyCT, the same group o
 f IRS-certified volunteers that have been preparing your taxes for years, 
 to again provide our community with the no-cost, full-service VITA/IRS Vol
 unteer Tax Assistance Program. The service will be available both on-site 
 at Darien Library and virtually through a secure internet site.There are n
 o age or income limits for these services, but special attention is given 
 to seniors and low to moderate-income households.Learn what documents to b
 ring and other key dates
URL:https://www.darienlibrary.org/event/tax-prep-assistance-111683
END:VEVENT
END:VCALENDAR
