BEGIN:VCALENDAR
VERSION:2.0
PRODID:-//Library Market//iCal Export//EN
BEGIN:VEVENT
SUMMARY:The Friday Thing
UID:111738
DTSTAMP:20260423T160500Z
DTSTART:20260508T190000Z
DTEND:20260508T200000Z
LOCATION:1441 Post Road, Darien, CT 06820, United States
ROOM: Teen Lounge
DESCRIPTION:Stop by the Teen Lounge for this drop-in hangout session. We&#
 039;ll have snacks, crafts, and games on hand to help you unwind at the en
 d of the week, and usher in good vibes for the weekend! 
URL:https://www.darienlibrary.org/event/friday-thing-111738
END:VEVENT
END:VCALENDAR
