BEGIN:VCALENDAR
VERSION:2.0
PRODID:-//Library Market//iCal Export//EN
BEGIN:VEVENT
SUMMARY:Bilingual Birdies Concert
UID:111955
DTSTAMP:20260424T050600Z
DTSTART:20260501T134500Z
DTEND:20260501T143000Z
LOCATION:1441 Post Road, Darien, CT 06820, United States
ROOM: Community Room
DESCRIPTION:Join a musician from Bilingual Birdies in the Library&#039;s C
 ommunity Room for an unforgettable concert performance in English and Mand
 arin! Learn new words while you and your child sing and dance along to or
 iginal and traditional songs.Ages 1 to 5 with caregiver. No registration r
 equired!
URL:https://www.darienlibrary.org/event/bilingual-birdies-concert-111955
END:VEVENT
END:VCALENDAR
