BEGIN:VCALENDAR
VERSION:2.0
PRODID:-//Library Market//iCal Export//EN
BEGIN:VEVENT
SUMMARY:Musical Adventures at the Library
UID:92993
DTSTAMP:20260423T172500Z
DTSTART:20260515T134500Z
DTEND:20260515T141500Z
LOCATION:1441 Post Road, Darien, CT 06820, United States
ROOM: Community Room
DESCRIPTION:Concordia Conservatory presents Musical Adventures at the Libr
 ary! Come and listen to a story accompanied by an incredible musician and
  stay to sing a song with us.Ages 3 and up with caregiver.
URL:https://www.darienlibrary.org/event/musical-adventures-library-92993
END:VEVENT
END:VCALENDAR
